BEGIN:VCALENDAR
VERSION:2.0
PRODID:-//Nebraska FBLA - ECPv6.15.20//NONSGML v1.0//EN
CALSCALE:GREGORIAN
METHOD:PUBLISH
X-ORIGINAL-URL:https://nebraskafbla.org
X-WR-CALDESC:Events for Nebraska FBLA
REFRESH-INTERVAL;VALUE=DURATION:PT1H
X-Robots-Tag:noindex
X-PUBLISHED-TTL:PT1H
BEGIN:VTIMEZONE
TZID:America/Chicago
BEGIN:DAYLIGHT
TZOFFSETFROM:-0600
TZOFFSETTO:-0500
TZNAME:CDT
DTSTART:20230312T080000
END:DAYLIGHT
BEGIN:STANDARD
TZOFFSETFROM:-0500
TZOFFSETTO:-0600
TZNAME:CST
DTSTART:20231105T070000
END:STANDARD
BEGIN:DAYLIGHT
TZOFFSETFROM:-0600
TZOFFSETTO:-0500
TZNAME:CDT
DTSTART:20240310T080000
END:DAYLIGHT
BEGIN:STANDARD
TZOFFSETFROM:-0500
TZOFFSETTO:-0600
TZNAME:CST
DTSTART:20241103T070000
END:STANDARD
BEGIN:DAYLIGHT
TZOFFSETFROM:-0600
TZOFFSETTO:-0500
TZNAME:CDT
DTSTART:20250309T080000
END:DAYLIGHT
BEGIN:STANDARD
TZOFFSETFROM:-0500
TZOFFSETTO:-0600
TZNAME:CST
DTSTART:20251102T070000
END:STANDARD
BEGIN:DAYLIGHT
TZOFFSETFROM:-0600
TZOFFSETTO:-0500
TZNAME:CDT
DTSTART:20260308T080000
END:DAYLIGHT
BEGIN:STANDARD
TZOFFSETFROM:-0500
TZOFFSETTO:-0600
TZNAME:CST
DTSTART:20261101T070000
END:STANDARD
END:VTIMEZONE
BEGIN:VEVENT
DTSTART;VALUE=DATE:20241109
DTEND;VALUE=DATE:20250111
DTSTAMP:20260421T053451
CREATED:20240610T174107Z
LAST-MODIFIED:20250110T234104Z
UID:12079-1731110400-1736553599@nebraskafbla.org
SUMMARY:Champion Chapter - Service Season
DESCRIPTION:https://www.fbla.org/divisions/fbla/fbla-membership/
URL:https://nebraskafbla.org/event/champion-chapter-service-season-2/
END:VEVENT
BEGIN:VEVENT
DTSTART;VALUE=DATE:20250115
DTEND;VALUE=DATE:20250116
DTSTAMP:20260421T053451
CREATED:20240516T164127Z
LAST-MODIFIED:20250115T221037Z
UID:12034-1736899200-1736985599@nebraskafbla.org
SUMMARY:SLC Registration Opens
DESCRIPTION:
URL:https://nebraskafbla.org/event/slc-registration-opens-2/
END:VEVENT
BEGIN:VEVENT
DTSTART;VALUE=DATE:20250117
DTEND;VALUE=DATE:20250118
DTSTAMP:20260421T053451
CREATED:20240521T165603Z
LAST-MODIFIED:20250117T221033Z
UID:12046-1737072000-1737158399@nebraskafbla.org
SUMMARY:State Officer Applications Due
DESCRIPTION:
URL:https://nebraskafbla.org/event/state-officer-applications-due/
END:VEVENT
BEGIN:VEVENT
DTSTART;VALUE=DATE:20250120
DTEND;VALUE=DATE:20250121
DTSTAMP:20260421T053451
CREATED:20250114T215541Z
LAST-MODIFIED:20250120T222605Z
UID:12397-1737331200-1737417599@nebraskafbla.org
SUMMARY:Business of the Year Nominations due
DESCRIPTION:
URL:https://nebraskafbla.org/event/business-of-the-year-nominations-due/
END:VEVENT
BEGIN:VEVENT
DTSTART;VALUE=DATE:20250131
DTEND;VALUE=DATE:20250201
DTSTAMP:20260421T053451
CREATED:20240521T165603Z
LAST-MODIFIED:20250131T224040Z
UID:12047-1738281600-1738367999@nebraskafbla.org
SUMMARY:National Anthem Audition Due
DESCRIPTION:
URL:https://nebraskafbla.org/event/national-anthem-audition-due/
END:VEVENT
END:VCALENDAR