BEGIN:VCALENDAR
VERSION:2.0
PRODID:-//Nebraska FBLA - ECPv6.15.20//NONSGML v1.0//EN
CALSCALE:GREGORIAN
METHOD:PUBLISH
X-WR-CALNAME:Nebraska FBLA
X-ORIGINAL-URL:https://nebraskafbla.org
X-WR-CALDESC:Events for Nebraska FBLA
REFRESH-INTERVAL;VALUE=DURATION:PT1H
X-Robots-Tag:noindex
X-PUBLISHED-TTL:PT1H
BEGIN:VTIMEZONE
TZID:America/Chicago
BEGIN:DAYLIGHT
TZOFFSETFROM:-0600
TZOFFSETTO:-0500
TZNAME:CDT
DTSTART:20220313T080000
END:DAYLIGHT
BEGIN:STANDARD
TZOFFSETFROM:-0500
TZOFFSETTO:-0600
TZNAME:CST
DTSTART:20221106T070000
END:STANDARD
BEGIN:DAYLIGHT
TZOFFSETFROM:-0600
TZOFFSETTO:-0500
TZNAME:CDT
DTSTART:20230312T080000
END:DAYLIGHT
BEGIN:STANDARD
TZOFFSETFROM:-0500
TZOFFSETTO:-0600
TZNAME:CST
DTSTART:20231105T070000
END:STANDARD
BEGIN:DAYLIGHT
TZOFFSETFROM:-0600
TZOFFSETTO:-0500
TZNAME:CDT
DTSTART:20240310T080000
END:DAYLIGHT
BEGIN:STANDARD
TZOFFSETFROM:-0500
TZOFFSETTO:-0600
TZNAME:CST
DTSTART:20241103T070000
END:STANDARD
BEGIN:DAYLIGHT
TZOFFSETFROM:-0600
TZOFFSETTO:-0500
TZNAME:CDT
DTSTART:20250309T080000
END:DAYLIGHT
BEGIN:STANDARD
TZOFFSETFROM:-0500
TZOFFSETTO:-0600
TZNAME:CST
DTSTART:20251102T070000
END:STANDARD
END:VTIMEZONE
BEGIN:VEVENT
DTSTART;VALUE=DATE:20231109
DTEND;VALUE=DATE:20240111
DTSTAMP:20260420T050927
CREATED:20230831T235057Z
LAST-MODIFIED:20240110T201105Z
UID:10818-1699488000-1704931199@nebraskafbla.org
SUMMARY:Champion Chapter | Service Season
DESCRIPTION:https://www.fbla-pbl.org/divisions/fbla/fbla-membership/
URL:https://nebraskafbla.org/event/champion-chapter-service-season/
END:VEVENT
BEGIN:VEVENT
DTSTART;VALUE=DATE:20240110
DTEND;VALUE=DATE:20240111
DTSTAMP:20260420T050927
CREATED:20230831T220012Z
LAST-MODIFIED:20240110T201105Z
UID:10794-1704844800-1704931199@nebraskafbla.org
SUMMARY:National Anthem Signer Application Deadline
DESCRIPTION:
URL:https://nebraskafbla.org/event/national-anthem-signer-application-deadline-2/
CATEGORIES:Deadlines
END:VEVENT
BEGIN:VEVENT
DTSTART;VALUE=DATE:20240111
DTEND;VALUE=DATE:20240301
DTSTAMP:20260420T050927
CREATED:20230831T235059Z
LAST-MODIFIED:20240229T234103Z
UID:10829-1704931200-1709251199@nebraskafbla.org
SUMMARY:Champion Chapter | CTE Celebration
DESCRIPTION:https://www.fbla-pbl.org/divisions/fbla/fbla-membership/
URL:https://nebraskafbla.org/event/champion-chapter-cte-celebration/
END:VEVENT
BEGIN:VEVENT
DTSTART;VALUE=DATE:20240115
DTEND;VALUE=DATE:20240116
DTSTAMP:20260420T050927
CREATED:20230831T220012Z
LAST-MODIFIED:20240115T201052Z
UID:10795-1705276800-1705363199@nebraskafbla.org
SUMMARY:Membership Deadline
DESCRIPTION:
URL:https://nebraskafbla.org/event/membership-deadline/
CATEGORIES:Deadlines
END:VEVENT
BEGIN:VEVENT
DTSTART;VALUE=DATE:20240115
DTEND;VALUE=DATE:20240116
DTSTAMP:20260420T050927
CREATED:20230831T220012Z
LAST-MODIFIED:20240115T201052Z
UID:10796-1705276800-1705363199@nebraskafbla.org
SUMMARY:SLC Sponsorship Deadline
DESCRIPTION:
URL:https://nebraskafbla.org/event/slc-sponsorship-deadline/
CATEGORIES:Deadlines
END:VEVENT
BEGIN:VEVENT
DTSTART;VALUE=DATE:20240119
DTEND;VALUE=DATE:20240120
DTSTAMP:20260420T050927
CREATED:20230831T220012Z
LAST-MODIFIED:20240119T201042Z
UID:10797-1705622400-1705708799@nebraskafbla.org
SUMMARY:State Officer Application Deadline
DESCRIPTION:
URL:https://nebraskafbla.org/event/state-officer-application-deadline-2/
CATEGORIES:Deadlines
END:VEVENT
END:VCALENDAR