BEGIN:VCALENDAR
VERSION:2.0
PRODID:-//Nebraska FBLA - ECPv6.15.20//NONSGML v1.0//EN
CALSCALE:GREGORIAN
METHOD:PUBLISH
X-ORIGINAL-URL:https://nebraskafbla.org
X-WR-CALDESC:Events for Nebraska FBLA
REFRESH-INTERVAL;VALUE=DURATION:PT1H
X-Robots-Tag:noindex
X-PUBLISHED-TTL:PT1H
BEGIN:VTIMEZONE
TZID:America/Chicago
BEGIN:DAYLIGHT
TZOFFSETFROM:-0600
TZOFFSETTO:-0500
TZNAME:CDT
DTSTART:20250309T080000
END:DAYLIGHT
BEGIN:STANDARD
TZOFFSETFROM:-0500
TZOFFSETTO:-0600
TZNAME:CST
DTSTART:20251102T070000
END:STANDARD
BEGIN:DAYLIGHT
TZOFFSETFROM:-0600
TZOFFSETTO:-0500
TZNAME:CDT
DTSTART:20260308T080000
END:DAYLIGHT
BEGIN:STANDARD
TZOFFSETFROM:-0500
TZOFFSETTO:-0600
TZNAME:CST
DTSTART:20261101T070000
END:STANDARD
BEGIN:DAYLIGHT
TZOFFSETFROM:-0600
TZOFFSETTO:-0500
TZNAME:CDT
DTSTART:20270314T080000
END:DAYLIGHT
BEGIN:STANDARD
TZOFFSETFROM:-0500
TZOFFSETTO:-0600
TZNAME:CST
DTSTART:20271107T070000
END:STANDARD
END:VTIMEZONE
BEGIN:VEVENT
DTSTART;VALUE=DATE:20260515
DTEND;VALUE=DATE:20260516
DTSTAMP:20260422T040241
CREATED:20250811T151007Z
LAST-MODIFIED:20250911T182539Z
UID:12736-1778803200-1778889599@nebraskafbla.org
SUMMARY:State Leader National Officer Candidate Approval Form Submission Deadline
DESCRIPTION:
URL:https://nebraskafbla.org/event/state-leader-national-officer-candidate-approval-form-submission-deadline/
END:VEVENT
BEGIN:VEVENT
DTSTART;VALUE=DATE:20260515
DTEND;VALUE=DATE:20260516
DTSTAMP:20260422T040241
CREATED:20250811T151007Z
LAST-MODIFIED:20250911T182539Z
UID:12737-1778803200-1778889599@nebraskafbla.org
SUMMARY:NLC Travel Payment Due to Grafton
DESCRIPTION:
URL:https://nebraskafbla.org/event/nlc-travel-payment-due-to-grafton/
END:VEVENT
BEGIN:VEVENT
DTSTART;VALUE=DATE:20260515
DTEND;VALUE=DATE:20260516
DTSTAMP:20260422T040241
CREATED:20250811T151007Z
LAST-MODIFIED:20260421T212547Z
UID:12738-1778803200-1778889599@nebraskafbla.org
SUMMARY:NLC Conference Registration Payment Deadline to National Center
DESCRIPTION:
URL:https://nebraskafbla.org/event/nlc-conference-registration-payment-deadline-to-national-center/
END:VEVENT
BEGIN:VEVENT
DTSTART;VALUE=DATE:20260515
DTEND;VALUE=DATE:20260516
DTSTAMP:20260422T040241
CREATED:20250811T151007Z
LAST-MODIFIED:20260421T212547Z
UID:12739-1778803200-1778889599@nebraskafbla.org
SUMMARY:NLC Travel Payment Due to Grafton
DESCRIPTION:
URL:https://nebraskafbla.org/event/nlc-travel-payment-due-to-grafton-2/
END:VEVENT
BEGIN:VEVENT
DTSTART;VALUE=DATE:20260515
DTEND;VALUE=DATE:20260516
DTSTAMP:20260422T040241
CREATED:20250811T151007Z
LAST-MODIFIED:20260421T212547Z
UID:12740-1778803200-1778889599@nebraskafbla.org
SUMMARY:NLC Prep Day Registration Deadline
DESCRIPTION:
URL:https://nebraskafbla.org/event/nlc-prep-day-registration-deadline/
END:VEVENT
END:VCALENDAR